BEGIN:VCALENDAR
VERSION:2.0
PRODID:-//PYVOBJECT//NONSGML Version 0.9.9//EN
X-WR-TIMEZONE:Africa/Johannesburg
BEGIN:VTIMEZONE
TZID:Africa/Johannesburg
BEGIN:STANDARD
DTSTART:20000101T000000
RRULE:FREQ=YEARLY;BYMONTH=1
TZNAME:SAST
TZOFFSETFROM:+0200
TZOFFSETTO:+0200
END:STANDARD
END:VTIMEZONE
BEGIN:VEVENT
UID:20260421T131028Z - 35603@eos-content
DTSTART;TZID=Africa/Johannesburg:20260426T140000
DTEND;TZID=Africa/Johannesburg:20260426T160000
ATTENDEE:MAILTO:felicita.crews@prop247.co.za
ATTENDEE:MAILTO:nikki.gomes@prop247.co.za
DESCRIPTION:https://www.prop247.co.za/results/residential/for-sale/umhlanga
 /herrwood-park/house/3147176/\n\n8 Kingston Close\n\nFelicita Crews (08271
 01699)\n\nNikki Gomes (0835522510)
DTSTAMP:20260421T131028Z
LOCATION:Herrwood Park\, Umhlanga
SUMMARY:Prop247 Show Day - RL17007
END:VEVENT
END:VCALENDAR
